BEGIN:VCALENDAR
VERSION:2.0
PRODID:-//Marios Papadopoulos - ECPv5.8.1//NONSGML v1.0//EN
CALSCALE:GREGORIAN
METHOD:PUBLISH
X-WR-CALNAME:Marios Papadopoulos
X-ORIGINAL-URL:https://mariospapadopoulos.co.uk
X-WR-CALDESC:Events for Marios Papadopoulos
BEGIN:VTIMEZONE
TZID:Europe/London
BEGIN:DAYLIGHT
TZOFFSETFROM:+0000
TZOFFSETTO:+0100
TZNAME:BST
DTSTART:20230326T010000
END:DAYLIGHT
BEGIN:STANDARD
TZOFFSETFROM:+0100
TZOFFSETTO:+0000
TZNAME:GMT
DTSTART:20231029T010000
END:STANDARD
END:VTIMEZONE
BEGIN:VEVENT
DTSTART;TZID=Europe/London:20231204T193000
DTEND;TZID=Europe/London:20231204T193000
DTSTAMP:20260419T180110
CREATED:20230912T134356Z
LAST-MODIFIED:20230912T134356Z
UID:5543-1701718200-1701718200@mariospapadopoulos.co.uk
SUMMARY:Beethoven Pastoral
DESCRIPTION:Mendelssohn The Hebrides Overture\, Op. 26\, ‘Fingal’s Cave’\nVaughan Williams The Lark Ascending\nWagner Forest Murmurs from Siegfried\, WWV 86C\nBeethoven Symphony No. 6 in F major\, Op. 68\, ‘Pastoral’ \nLeia Zhu violin\nMarios Papadopoulos conductor \nBe transported from the urbane perfection of the Sheldonian Theatre into the mysteries of the forest\, the wilds of the hills and valleys and the tempests of the open seas. Marios Papadopoulos conducts a concert filled with music inspired by nature\, from Mendelssohn’s dizzying orchestral boat trip on heaving Scottish seas to the calm idylls of Wagner’s murmuring forest and the ‘silver chain of sound’ of Vaughan Williams’s soaring lark. The concert culminates in Beethoven’s symphonic visit to the Austrian countryside – in his own words\, a ‘ramble for a while through bushes\, woods\, under trees\, through grass\, and around rocks\,’ that includes storms\, partying\, feasting and dancing. \nPanel Discussion\, 18:30\nChaired by Cameron Hepburn\, Professor of Environmental Economics at the University of Oxford. Leading climate experts and musicians come together to discuss the inspiring effect of the natural world in music.\nFree admission.
URL:https://mariospapadopoulos.co.uk/event/beethoven-pastoral/
LOCATION:Sheldonian Theatre\, Oxford\, United Kingdom
ATTACH;FMTTYPE=image/jpeg:https://mariospapadopoulos.co.uk/wp-content/uploads/2023/09/Leia-Zhu.jpg
ORGANIZER;CN="Oxford%20Philharmonic%20Orchestra":MAILTO:events@oxfordphil.com
END:VEVENT
END:VCALENDAR