BEGIN:VCALENDAR
VERSION:2.0
PRODID:-//Marios Papadopoulos - ECPv5.8.1//NONSGML v1.0//EN
CALSCALE:GREGORIAN
METHOD:PUBLISH
X-WR-CALNAME:Marios Papadopoulos
X-ORIGINAL-URL:https://mariospapadopoulos.co.uk
X-WR-CALDESC:Events for Marios Papadopoulos
BEGIN:VTIMEZONE
TZID:Europe/London
BEGIN:DAYLIGHT
TZOFFSETFROM:+0000
TZOFFSETTO:+0100
TZNAME:BST
DTSTART:20230326T010000
END:DAYLIGHT
BEGIN:STANDARD
TZOFFSETFROM:+0100
TZOFFSETTO:+0000
TZNAME:GMT
DTSTART:20231029T010000
END:STANDARD
END:VTIMEZONE
BEGIN:VEVENT
DTSTART;TZID=Europe/London:20230629T193000
DTEND;TZID=Europe/London:20230629T213000
DTSTAMP:20260419T180345
CREATED:20230512T161101Z
LAST-MODIFIED:20230512T161101Z
UID:5278-1688067000-1688074200@mariospapadopoulos.co.uk
SUMMARY:Bruckner Seven
DESCRIPTION:Beethoven Piano Concerto No. 2 in B flat major\, Op. 19\nBruckner Symphony No. 7 in E major\, WAB 107 \nPaul Lewis piano\nMarios Papadopoulos conductor \nNone of his works brought Anton Bruckner the joy and pride of his seventh symphony. This is the composer’s most delicately etched orchestral creation and his most instantly beautiful – a symphony that enshrines a heartfelt eulogy for Richard Wagner but thrusts with excitement and changeability too. For this culmination of our season at the Sheldonian Theatre\, Marios Papadopoulos conducts Bruckner’s symphony here after Beethoven’s Piano Concerto No. 2 – actually the composer’s first full-length orchestral work\, and an imposingly assertive one at that.
URL:https://mariospapadopoulos.co.uk/event/bruckner-seven/
LOCATION:Sheldonian Theatre\, Oxford\, United Kingdom
ATTACH;FMTTYPE=image/jpeg:https://mariospapadopoulos.co.uk/wp-content/uploads/2023/05/Paul-Lewis.jpg
ORGANIZER;CN="Oxford%20Philharmonic%20Orchestra":MAILTO:events@oxfordphil.com
END:VEVENT
END:VCALENDAR