BEGIN:VCALENDAR
VERSION:2.0
PRODID:-//Marios Papadopoulos - ECPv5.8.1//NONSGML v1.0//EN
CALSCALE:GREGORIAN
METHOD:PUBLISH
X-WR-CALNAME:Marios Papadopoulos
X-ORIGINAL-URL:https://mariospapadopoulos.co.uk
X-WR-CALDESC:Events for Marios Papadopoulos
BEGIN:VTIMEZONE
TZID:Europe/London
BEGIN:DAYLIGHT
TZOFFSETFROM:+0000
TZOFFSETTO:+0100
TZNAME:BST
DTSTART:20230326T010000
END:DAYLIGHT
BEGIN:STANDARD
TZOFFSETFROM:+0100
TZOFFSETTO:+0000
TZNAME:GMT
DTSTART:20231029T010000
END:STANDARD
END:VTIMEZONE
BEGIN:VEVENT
DTSTART;TZID=Europe/London:20230603T193000
DTEND;TZID=Europe/London:20230603T203000
DTSTAMP:20260419T175926
CREATED:20230512T095014Z
LAST-MODIFIED:20230512T095014Z
UID:5228-1685820600-1685824200@mariospapadopoulos.co.uk
SUMMARY:Enigma Variations
DESCRIPTION:Morfydd Llwyn Owen Nocturne*  Side-by-Side\nElgar Cello Concerto in E minor\, Op. 85\nElgar Variations on an Original Theme\, Op. 36\, ‘Enigma’ \nAlban Gerhardt cello\nCayenna Ponchione-Bailey conductor*\nMarios Papadopoulos conductor \nWhen Edward Elgar started to improvise a little tune at his piano one day\, considering how a group of his closest friends might play that tune\, he gave birth to one of the greatest masterpieces of English music. The ‘Enigma’ variations are uplifting and resigned\, humorous and profound. Elgar’s dazzling\, virtuosic orchestral showpiece comes after his acerbic\, embittered and sorrowful Cello Concerto written in less happy times\, and the rediscovered gem that is Morfydd Llwyn Owen’s sumptuous Nocturne.
URL:https://mariospapadopoulos.co.uk/event/enigma-variations/
LOCATION:Sheldonian Theatre\, Oxford\, United Kingdom
ATTACH;FMTTYPE=image/jpeg:https://mariospapadopoulos.co.uk/wp-content/uploads/2023/05/Alban-Gerhardt.jpg
ORGANIZER;CN="Oxford%20Philharmonic%20Orchestra":MAILTO:events@oxfordphil.com
END:VEVENT
END:VCALENDAR