BEGIN:VCALENDAR
VERSION:2.0
PRODID:-//Marios Papadopoulos - ECPv5.8.1//NONSGML v1.0//EN
CALSCALE:GREGORIAN
METHOD:PUBLISH
X-WR-CALNAME:Marios Papadopoulos
X-ORIGINAL-URL:https://mariospapadopoulos.co.uk
X-WR-CALDESC:Events for Marios Papadopoulos
BEGIN:VTIMEZONE
TZID:Europe/London
BEGIN:DAYLIGHT
TZOFFSETFROM:+0000
TZOFFSETTO:+0100
TZNAME:BST
DTSTART:20240331T010000
END:DAYLIGHT
BEGIN:STANDARD
TZOFFSETFROM:+0100
TZOFFSETTO:+0000
TZNAME:GMT
DTSTART:20241027T010000
END:STANDARD
END:VTIMEZONE
BEGIN:VEVENT
DTSTART;TZID=Europe/London:20241220T193000
DTEND;TZID=Europe/London:20241220T213000
DTSTAMP:20260425T164132
CREATED:20241220T193000Z
LAST-MODIFIED:20240910T085116Z
UID:5811-1734723000-1734730200@mariospapadopoulos.co.uk
SUMMARY:Happy Birthday Marios
DESCRIPTION:Brahms Piano Concerto No. 2 in B flat major\, Op. 83*\nBrahms Symphony No. 4 in E minor\, Op. 98 \nMarios Papadopoulos piano/conductor\nMichael Papadopoulos conductor* \nMusic Director Marios Papadopoulos celebrates a landmark occasion as soloist in Brahms’s Piano Concerto in B flat major and conductor in the same composer’s Symphony No. 4. Brahms wrote the second of his concertos at the ripest moment of his productivity\, apparently able to animate any possible musical idea and to blend beauty with ferocity and drama with intimacy. Rising star Michael Papadopoulos\, makes his debut as conductor with the Oxford Philharmonic to provide an accompaniment of symphonic proportions to this\, the grandest of piano concertos of the Romantic era. After the interval\, Marios Papadopoulos steps on the podium to conduct Brahms’s Apollonian final symphony – a work conceived as a retreat from the world that reflects on the composer’s lifelong servitude and his luminous acceptance of the end of his creative and mortal lives.
URL:https://mariospapadopoulos.co.uk/event/happy-birthday-marios/
LOCATION:Sheldonian Theatre\, Oxford\, United Kingdom
ATTACH;FMTTYPE=image/jpeg:https://mariospapadopoulos.co.uk/wp-content/uploads/2024/12/Marios.jpg
ORGANIZER;CN="Oxford%20Philharmonic%20Orchestra":MAILTO:events@oxfordphil.com
END:VEVENT
END:VCALENDAR