BEGIN:VCALENDAR
VERSION:2.0
PRODID:-//Marios Papadopoulos - ECPv5.8.1//NONSGML v1.0//EN
CALSCALE:GREGORIAN
METHOD:PUBLISH
X-WR-CALNAME:Marios Papadopoulos
X-ORIGINAL-URL:https://mariospapadopoulos.co.uk
X-WR-CALDESC:Events for Marios Papadopoulos
BEGIN:VTIMEZONE
TZID:Europe/London
BEGIN:DAYLIGHT
TZOFFSETFROM:+0000
TZOFFSETTO:+0100
TZNAME:BST
DTSTART:20240331T010000
END:DAYLIGHT
BEGIN:STANDARD
TZOFFSETFROM:+0100
TZOFFSETTO:+0000
TZNAME:GMT
DTSTART:20241027T010000
END:STANDARD
END:VTIMEZONE
BEGIN:VEVENT
DTSTART;TZID=Europe/London:20240420T193000
DTEND;TZID=Europe/London:20240420T193000
DTSTAMP:20260419T162626
CREATED:20230912T135322Z
LAST-MODIFIED:20230912T135322Z
UID:5549-1713641400-1713641400@mariospapadopoulos.co.uk
SUMMARY:James Ehnes plays Schumann
DESCRIPTION:Weber Overture to Oberon\, J. 306\nSchumann Violin Concerto in A minor\, Op. 129\nSchumann Symphony No. 3 in E flat major\, Op. 97\, ‘Rhenish’ \nJames Ehnes violin\nMarios Papadopoulos conductor \nRobert Schumann’s forceful imagination\, his inquisitive mind\, his passion for literature and his music of rare poetry exerted an influence on European creativity for decades. This concert culminates in one of the most propulsive symphonies ever written: Schumann’s captivating orchestral portrait of the deep and majestic River Rhine\, complete with its splendid procession in salute to Cologne Cathedral. Before it\, James Ehnes plays the composer’s Violin Concerto – a piece thought lost until it was discovered\, with help from a séance\, in the 1930s. In its intricate writing\, Schumann’s work has been compared to the plotting characters in a play – precisely what Weber sought to achieve in the overture to his enchanting opera Oberon.
URL:https://mariospapadopoulos.co.uk/event/james-ehnes-plays-schumann/
LOCATION:Sheldonian Theatre\, Oxford\, United Kingdom
ATTACH;FMTTYPE=image/jpeg:https://mariospapadopoulos.co.uk/wp-content/uploads/2023/09/James-Ehnes.jpg
ORGANIZER;CN="Oxford%20Philharmonic%20Orchestra":MAILTO:events@oxfordphil.com
END:VEVENT
END:VCALENDAR