BEGIN:VCALENDAR
VERSION:2.0
PRODID:-//Marios Papadopoulos - ECPv5.8.1//NONSGML v1.0//EN
CALSCALE:GREGORIAN
METHOD:PUBLISH
X-WR-CALNAME:Marios Papadopoulos
X-ORIGINAL-URL:https://mariospapadopoulos.co.uk
X-WR-CALDESC:Events for Marios Papadopoulos
BEGIN:VTIMEZONE
TZID:Europe/London
BEGIN:DAYLIGHT
TZOFFSETFROM:+0000
TZOFFSETTO:+0100
TZNAME:BST
DTSTART:20240331T010000
END:DAYLIGHT
BEGIN:STANDARD
TZOFFSETFROM:+0100
TZOFFSETTO:+0000
TZNAME:GMT
DTSTART:20241027T010000
END:STANDARD
END:VTIMEZONE
BEGIN:VEVENT
DTSTART;TZID=Europe/London:20240627T193000
DTEND;TZID=Europe/London:20240627T193000
DTSTAMP:20260419T150716
CREATED:20240627T183000Z
LAST-MODIFIED:20230912T140736Z
UID:5556-1719516600-1719516600@mariospapadopoulos.co.uk
SUMMARY:Mischa Maisky
DESCRIPTION:Henry Le Feber Robertson Oublié*  world premiere\nDvořák Cello Concerto in B minor\, Op. 104\nDvořák Symphony No. 9 in E minor\, Op. 95\, ‘From the New World’ \nMischa Maisky cello\nCayenna Ponchione-Bailey conductor*\nMarios Papadopoulos conductor \nWhen Dvořák first heard America’s spirituals and plantation songs\, he wrote that they would form ‘the future music of this country’. Rather sooner\, the spirit of those melodies made their way into Dvořák’s most popular work. In his ‘New World’ symphony\, the composer wove the songs of native America into music of intense warmth\, drama and spontaneity. Nature shines through this most gregarious music\, but so does the sense of sadness and longing that also colours the composer’s wistful Cello Concerto – another moving product of the Czech composer’s years spent expatriated across the Atlantic. Musical icon Mischa Maisky joins Marios Papadopoulos and the orchestra for this concert of heartfelt letters from America. The second premiere selected from last year’s composers’ workshop opens the concert.
URL:https://mariospapadopoulos.co.uk/event/mischa-maisky/
LOCATION:Sheldonian Theatre\, Oxford\, United Kingdom
ATTACH;FMTTYPE=image/jpeg:https://mariospapadopoulos.co.uk/wp-content/uploads/2023/09/Mischa-Maisky.jpg
ORGANIZER;CN="Oxford%20Philharmonic%20Orchestra":MAILTO:events@oxfordphil.com
END:VEVENT
END:VCALENDAR