BEGIN:VCALENDAR
VERSION:2.0
PRODID:-//Marios Papadopoulos - ECPv5.8.1//NONSGML v1.0//EN
CALSCALE:GREGORIAN
METHOD:PUBLISH
X-WR-CALNAME:Marios Papadopoulos
X-ORIGINAL-URL:https://mariospapadopoulos.co.uk
X-WR-CALDESC:Events for Marios Papadopoulos
BEGIN:VTIMEZONE
TZID:Europe/London
BEGIN:DAYLIGHT
TZOFFSETFROM:+0000
TZOFFSETTO:+0100
TZNAME:BST
DTSTART:20240331T010000
END:DAYLIGHT
BEGIN:STANDARD
TZOFFSETFROM:+0100
TZOFFSETTO:+0000
TZNAME:GMT
DTSTART:20241027T010000
END:STANDARD
END:VTIMEZONE
BEGIN:VEVENT
DTSTART;TZID=Europe/London:20240729T093000
DTEND;TZID=Europe/London:20240729T125000
DTSTAMP:20260419T132359
CREATED:20240208T175702Z
LAST-MODIFIED:20240208T175702Z
UID:5773-1722245400-1722257400@mariospapadopoulos.co.uk
SUMMARY:Piano Masterclass | Oxford Piano Festival 2024
DESCRIPTION:The remarkably talented participants of the Oxford Piano Festival receive masterclasses from some of the world’s leading authorities on piano. The repertoire list for the masterclasses will be available to view from 20 July 2024 on the Oxford Piano Festival website.
URL:https://mariospapadopoulos.co.uk/event/piano-masterclass-oxford-piano-festival-2024/
LOCATION:Jacqueline du Pré Music Building\, Oxford\, United Kingdom
ATTACH;FMTTYPE=image/png:https://mariospapadopoulos.co.uk/wp-content/uploads/2024/02/15.png
END:VEVENT
END:VCALENDAR