BEGIN:VCALENDAR
VERSION:2.0
PRODID:-//Marios Papadopoulos - ECPv5.8.1//NONSGML v1.0//EN
CALSCALE:GREGORIAN
METHOD:PUBLISH
X-WR-CALNAME:Marios Papadopoulos
X-ORIGINAL-URL:https://mariospapadopoulos.co.uk
X-WR-CALDESC:Events for Marios Papadopoulos
BEGIN:VTIMEZONE
TZID:Europe/London
BEGIN:DAYLIGHT
TZOFFSETFROM:+0000
TZOFFSETTO:+0100
TZNAME:BST
DTSTART:20240331T010000
END:DAYLIGHT
BEGIN:STANDARD
TZOFFSETFROM:+0100
TZOFFSETTO:+0000
TZNAME:GMT
DTSTART:20241027T010000
END:STANDARD
END:VTIMEZONE
BEGIN:VEVENT
DTSTART;TZID=Europe/London:20240620T193000
DTEND;TZID=Europe/London:20240620T193000
DTSTAMP:20260419T161924
CREATED:20230912T135732Z
LAST-MODIFIED:20230912T135732Z
UID:5553-1718911800-1718911800@mariospapadopoulos.co.uk
SUMMARY:Sir Stephen Hough
DESCRIPTION:Brahms Symphony No. 3 in F major\, Op. 90\nRachmaninov Piano Concerto No. 3 in D minor\, Op. 30 \nSir Stephen Hough piano\nMarios Papadopoulos conductor \nOne of the great pianists of our time brings us one of the great piano concertos of all time. Sir Stephen Hough\, whose recording of the Rachmaninov concerto was a Sunday Times Record of the Year\, joins Marios Papadopoulos to take on the Everest of the piano literature – the Russian composer’s ardent and immense Piano Concerto No. 3. Before it\, a work both menacing and mellifluent\, the exquisite picture of radiant beauty and dark foreboding that is Brahms’s Symphony No. 3. It will give the Oxford Philharmonic Orchestra plenty of opportunity to display both its outstanding soloists and its warm\, embracing sound.
URL:https://mariospapadopoulos.co.uk/event/sir-stephen-hough/
LOCATION:Sheldonian Theatre\, Oxford\, United Kingdom
ATTACH;FMTTYPE=image/jpeg:https://mariospapadopoulos.co.uk/wp-content/uploads/2023/09/Sir-Stephen-Hough.jpg
ORGANIZER;CN="Oxford%20Philharmonic%20Orchestra":MAILTO:events@oxfordphil.com
END:VEVENT
END:VCALENDAR